BEGIN:VCALENDAR
VERSION:2.0
PRODID:-//Tax Research Network - ECPv6.15.11//NONSGML v1.0//EN
CALSCALE:GREGORIAN
METHOD:PUBLISH
X-WR-CALNAME:Tax Research Network
X-ORIGINAL-URL:https://taxresearch.network
X-WR-CALDESC:Events for Tax Research Network
REFRESH-INTERVAL;VALUE=DURATION:PT1H
X-Robots-Tag:noindex
X-PUBLISHED-TTL:PT1H
BEGIN:VTIMEZONE
TZID:Europe/London
BEGIN:DAYLIGHT
TZOFFSETFROM:+0000
TZOFFSETTO:+0100
TZNAME:BST
DTSTART:20230326T010000
END:DAYLIGHT
BEGIN:STANDARD
TZOFFSETFROM:+0100
TZOFFSETTO:+0000
TZNAME:GMT
DTSTART:20231029T010000
END:STANDARD
BEGIN:DAYLIGHT
TZOFFSETFROM:+0000
TZOFFSETTO:+0100
TZNAME:BST
DTSTART:20240331T010000
END:DAYLIGHT
BEGIN:STANDARD
TZOFFSETFROM:+0100
TZOFFSETTO:+0000
TZNAME:GMT
DTSTART:20241027T010000
END:STANDARD
BEGIN:DAYLIGHT
TZOFFSETFROM:+0000
TZOFFSETTO:+0100
TZNAME:BST
DTSTART:20250330T010000
END:DAYLIGHT
BEGIN:STANDARD
TZOFFSETFROM:+0100
TZOFFSETTO:+0000
TZNAME:GMT
DTSTART:20251026T010000
END:STANDARD
END:VTIMEZONE
BEGIN:VTIMEZONE
TZID:UTC
BEGIN:STANDARD
TZOFFSETFROM:+0000
TZOFFSETTO:+0000
TZNAME:UTC
DTSTART:20190101T000000
END:STANDARD
END:VTIMEZONE
BEGIN:VTIMEZONE
TZID:Europe/Paris
BEGIN:DAYLIGHT
TZOFFSETFROM:+0100
TZOFFSETTO:+0200
TZNAME:CEST
DTSTART:20220327T010000
END:DAYLIGHT
BEGIN:STANDARD
TZOFFSETFROM:+0200
TZOFFSETTO:+0100
TZNAME:CET
DTSTART:20221030T010000
END:STANDARD
BEGIN:DAYLIGHT
TZOFFSETFROM:+0100
TZOFFSETTO:+0200
TZNAME:CEST
DTSTART:20230326T010000
END:DAYLIGHT
BEGIN:STANDARD
TZOFFSETFROM:+0200
TZOFFSETTO:+0100
TZNAME:CET
DTSTART:20231029T010000
END:STANDARD
BEGIN:DAYLIGHT
TZOFFSETFROM:+0100
TZOFFSETTO:+0200
TZNAME:CEST
DTSTART:20240331T010000
END:DAYLIGHT
BEGIN:STANDARD
TZOFFSETFROM:+0200
TZOFFSETTO:+0100
TZNAME:CET
DTSTART:20241027T010000
END:STANDARD
END:VTIMEZONE
BEGIN:VEVENT
DTSTART;VALUE=DATE:20240909
DTEND;VALUE=DATE:20240912
DTSTAMP:20260423T121123
CREATED:20240512T161734Z
LAST-MODIFIED:20240907T194146Z
UID:2258-1725840000-1726099199@taxresearch.network
SUMMARY:TRN 24 - Cardiff 9-11th Sept 2024
DESCRIPTION:The 33rd Annual Tax Research Network Conference will be held on 9-11 September 2024 at the Business School\, University of Cardiff – for full details\, see https://taxresearch.network/trn-conference-24-cardiff \nPlease note that only remote attendance options are now available for this event (the deadline for in-person attendance booking has now passed sorry).  \nPlease select from the following options based on your planned attendance and status \nOptions include: \n\nAttending all 3 days – remotely\nAttending ONLY the 2 research days (9-10th Sept) remotely\nAttending ONLY the tax education day (11th Sept) remotely\n\nPLEASE NOTE – we assume ONLY ONE of these options will apply to you \nIf you have any questions on the booking process please contact the conference organisers (contact details provided in the link above to the full conference details) \nEvening meals on the 10th of Sept are also by your own arrangement. \n\nWe acknowledge the sponsorship provided for this event by our main sponsors for TRN 24:
URL:https://taxresearch.network/event/trn-24-cardiff-booking-page/
LOCATION:Postgraduate Teaching Centre – Cardiff Business School\, Cardiff University\, Cardiff\, United Kingdom
END:VEVENT
BEGIN:VEVENT
DTSTART;VALUE=DATE:20230905
DTEND;VALUE=DATE:20230908
DTSTAMP:20260423T121123
CREATED:20230309T144623Z
LAST-MODIFIED:20230901T085355Z
UID:1747-1693872000-1694131199@taxresearch.network
SUMMARY:TRN Conference 2023 - Cambridge
DESCRIPTION:The 32nd Annual Tax Research Network Conference will be held on 5-7 September 2023 at the Faculty of Law\, University of Cambridge\, Cambridge\, UK – for full details\, see http://taxresearch.network/trn-conference-2023-cambridge/ \nPlease select carefully from the following options based on your planned attendance and status \nOptions include: \n\nAttending all 3 days – in person or remotely (with a separate category for PhD students)\nAttending ONLY the 2 research days (5-6th Sept) in person or remotely (again with a separate category for PhD students)\nAttending ONLY the tax education day (7th Sept) in person or remotely (again with a separate category for PhD students)\n\nPLEASE NOTE – conference dinner bookings are now closed sorry. However\, you can still book to attend the rest of the event in person or remotely.  \nIf you a currently registered PhD student (full time only) you can qualify for a heavily subsidised rate as part of the CIOT sponsorship we have for this event. Please complete the relevant PhD option below if this applied to you (please note this will be validated) \nPLEASE NOTE – we assume ONLY ONE of these options will apply to you \nIf you have any questions on the booking process please contact the conference organisers (contact details provided in the link above to the full conference details) \nNOTE – These rates include full entry to the event on the chosen days\, including all catering during the working days (and the conference dinner on the evening of 5th Sept but only if this extra is chosen as part of your booking). However NO ACCOMMODATION is included in these rates – this must be arranged by yourself directly (see full conference listing for suggestions). Evening meals on the 6th of Sept are also by your own arrangement.
URL:https://taxresearch.network/event/trn-conference-2023-cambridge/
LOCATION:Faculty of Law\, Cambridge University\, 10 West Road\, Cambridge\, CB3 9DZ\, United Kingdom
END:VEVENT
BEGIN:VEVENT
DTSTART;TZID=UTC:20230626T120000
DTEND;TZID=UTC:20230627T140000
DTSTAMP:20260423T121123
CREATED:20230404T074404Z
LAST-MODIFIED:20230404T074404Z
UID:1786-1687780800-1687874400@taxresearch.network
SUMMARY:Creative workshop to explore how teaching practice can inspire and prepare students for the world of tax
DESCRIPTION:For more details see http://taxresearch.network/creative-workshop-to-explore-how-teaching-practice-can-inspire-and-prepare-students-for-the-world-of-tax-june-2023-exeter/ or the link below \n 
URL:https://taxresearch.network/event/creative-workshop-to-explore-how-teaching-practice-can-inspire-and-prepare-students-for-the-world-of-tax/
LOCATION:University of Exeter\, Exeter\, United Kingdom
END:VEVENT
BEGIN:VEVENT
DTSTART;TZID=UTC:20230404T080000
DTEND;TZID=UTC:20230405T170000
DTSTAMP:20260423T121123
CREATED:20220928T085712Z
LAST-MODIFIED:20230107T165621Z
UID:1679-1680595200-1680714000@taxresearch.network
SUMMARY:UNSW 15th International Conference on Tax Administration
DESCRIPTION:The School of Accounting\, Auditing and Taxation at the UNSW Business School will be hosting the Tax Administration Conference in April 2023.  This is a bi-annual event with dedicated themes to address different taxation issues and the 2023 theme is ‘Tax Administration: Evolution or Revolution’. \nUNSW would welcome tax academics\, policy makers and practitioners the opportunity to attend the conference to explore the latest developments and innovations in revenue administration in Australia and overseas.
URL:https://taxresearch.network/event/unsw-15th-international-conference-on-tax-administration/
END:VEVENT
BEGIN:VEVENT
DTSTART;VALUE=DATE:20230317
DTEND;VALUE=DATE:20230319
DTSTAMP:20260423T121123
CREATED:20230208T105021Z
LAST-MODIFIED:20230208T105021Z
UID:1712-1679011200-1679183999@taxresearch.network
SUMMARY:100 Years of the International Tax Regime - Conference in Zurich
DESCRIPTION:An interdisciplinary conference on the history of the International Tax Regime will be held at Zurich University\, exactly 100 years after the first coordination steps in the League of Nations in March 1923. The central character was Edwin R.A. Seligman of Columbia University\, New York City.  \nThe economic historian Prof. Dr. Tobias Straumann is chairing the conference. Historians and tax academics from Europe and the US will speak. Participation is free of charge.  \nThe link to the program and registration is https://tinyurl.com/2hmzd6hc (German) or https://tinyurl.com/y7amzv67 (English). A comprehensive working paper with historical sources is available for download until 31 March 2023 (https://tinyurl.com/3mmstcwn); author is Adrian Muster\, a tax attorney with an interest in history.
URL:https://taxresearch.network/event/100-years-of-the-international-tax-regime-conference-in-zurich/
LOCATION:Zurich\, Switzerland
END:VEVENT
BEGIN:VEVENT
DTSTART;TZID=UTC:20230131T124500
DTEND;TZID=UTC:20230131T140000
DTSTAMP:20260423T121123
CREATED:20230107T165934Z
LAST-MODIFIED:20230107T165934Z
UID:1693-1675169100-1675173600@taxresearch.network
SUMMARY:University of Edinburgh webinar on Public Services and Options for Local Taxes 
DESCRIPTION:Taxation and Social Policy: Local Taxation \nPublic services organised and run by many Local Authorities have been significantly affected for over a decade by the cuts in the Central Government Grant they receive. This has led to an increase in the role of local taxation and raises questions about what options there are for new local taxes or reforming existing local taxes in ways which are fair and effective in revenue-raising. \nThe Taxation and Social Policy Group are organising a webinar on \nPublic Services and Options for Local Taxes \nTuesday January 31st 2023 – 12.45 – 2pm \nMichael Orton\, Warwick University\, will speak about current local taxes\, including variation around the UK\, and will give an overview of some of the options for reform. \nEmma Congreve\, Deputy Director at the Fraser of Allander Institute\, will focus on contemporary debates in Scotland\, including the possible introduction of a land value tax. \nBooking details for the event will be made available soon. If you have any queries\, do contact Sally at sruane@dmu.ac.uk . \nBest wishes\, \nAdrian Sinfield\, Micheal Collins and Sally Ruane \n 
URL:https://taxresearch.network/event/university-of-edinburgh-webinar-on-public-services-and-options-for-local-taxes/
LOCATION:online
END:VEVENT
BEGIN:VEVENT
DTSTART;VALUE=DATE:20220905
DTEND;VALUE=DATE:20220908
DTSTAMP:20260423T121123
CREATED:20220609T124921Z
LAST-MODIFIED:20220609T124921Z
UID:1616-1662336000-1662595199@taxresearch.network
SUMMARY:TRN Conference 2022
DESCRIPTION:The TRN Conference will take place in Edinburgh this year – for details\, see http://taxresearch.network/trn-conference-2022-edinburgh/trn-2022-registration-is-now-open/
URL:https://taxresearch.network/event/trn-conference-2022/
END:VEVENT
BEGIN:VEVENT
DTSTART;TZID=UTC:20220613T173000
DTEND;TZID=UTC:20220613T190000
DTSTAMP:20260423T121123
CREATED:20220609T124751Z
LAST-MODIFIED:20220609T124751Z
UID:1614-1655141400-1655146800@taxresearch.network
SUMMARY:Book launch: The Chancellors
DESCRIPTION:See http://taxresearch.network/book-launch-panel-discussion-the-chancellors-steering-the-british-economy-in-crisis-times-june-13-2022/ for more details
URL:https://taxresearch.network/event/book-launch-the-chancellors/
END:VEVENT
BEGIN:VEVENT
DTSTART;VALUE=DATE:20210908
DTEND;VALUE=DATE:20210911
DTSTAMP:20260423T121123
CREATED:20210401T053846Z
LAST-MODIFIED:20210625T084149Z
UID:1199-1631059200-1631318399@taxresearch.network
SUMMARY:TRN Conference
DESCRIPTION:We are very pleased to announce the event this year will be a hybrid event – for full details\, including how to book\, please see http://taxresearch.network/annual-conference-2021-8-10-september-aston-university/
URL:https://taxresearch.network/event/trn-conference-2/
LOCATION:Aston University and online
END:VEVENT
BEGIN:VEVENT
DTSTART;VALUE=DATE:20200930
DTEND;VALUE=DATE:20201002
DTSTAMP:20260423T121123
CREATED:20200308T173730Z
LAST-MODIFIED:20200308T173730Z
UID:1119-1601424000-1601596799@taxresearch.network
SUMMARY:International Conference on Taxpayer Rights
DESCRIPTION:The Center for Taxpayer Rights is convening the 5th International Conference on Taxpayer Rights on 30 September and 1 October 2020 in Pretoria\, South Africa\, hosted by the African Tax Institute at the University of Pretoria\, with technical assistance from the International Bureau of Fiscal Documentation (IBFD).  This year’s conference theme is Taxpayer Rights\, Human Rights: Issues for Developing Countries.  This ground-breaking conference will include presentations by practitioners\, scholars\, members of the judiciary\, and government officials on: \n  \n·        Taxpayer rights as human rights; \n·        Taxation as a means to achieving Sustainable Development Goals (SDGs) in Africa and other developing countries; \n·        Independent administrative appeals and the promotion of integrity and fairness in the tax system; \n·        The role of legal privilege in the protection of taxpayer rights; \n·        Strengthening the rule of law and the protection of taxpayer rights in international tax disputes; \n·        Digitalization of tax administration and the implications for protection of taxpayer and human rights; and \n·        Barriers to access to justice and their impact on achieving Sustainable Development Goals.
URL:https://taxresearch.network/event/international-conference-on-taxpayer-rights/
LOCATION:University of Pretoria\, South Africa
ORGANIZER;CN="Center for Taxpayer Rights":MAILTO:info@taxpayer-rights.org
END:VEVENT
BEGIN:VEVENT
DTSTART;VALUE=DATE:20200907
DTEND;VALUE=DATE:20200910
DTSTAMP:20260423T121123
CREATED:20191210T123418Z
LAST-MODIFIED:20191210T123418Z
UID:1047-1599436800-1599695999@taxresearch.network
SUMMARY:TRN Conference
DESCRIPTION:
URL:https://taxresearch.network/event/trn-conference/
LOCATION:Christ’s College\, Cambridge\, United Kingdom
END:VEVENT
BEGIN:VEVENT
DTSTART;VALUE=DATE:20200901
DTEND;VALUE=DATE:20200905
DTSTAMP:20260423T121123
CREATED:20200208T132027Z
LAST-MODIFIED:20200208T132338Z
UID:1082-1598918400-1599263999@taxresearch.network
SUMMARY:SLS Annual Conference
DESCRIPTION:The 111th Annual Conference of the Society of Legal Scholars will be held at the University of Exeter\, from lunchtime on Tuesday 1 September until early afternoon on Friday 4 September – the tax stream will be on 1 & 2 September\, 2020. \nIn a departure from tradition\, there is no specific theme for the 2020 conference. This is to enable as wide a range of legal scholarship as possible to be presented and discussed in the subject sections.
URL:https://taxresearch.network/event/sls-annual-conference/
LOCATION:University of Exeter\, Exeter\, United Kingdom
END:VEVENT
BEGIN:VEVENT
DTSTART;VALUE=DATE:20200703
DTEND;VALUE=DATE:20200704
DTSTAMP:20260423T121123
CREATED:20200308T180202Z
LAST-MODIFIED:20200308T180202Z
UID:1128-1593734400-1593820799@taxresearch.network
SUMMARY:TRN Clinical Tax Education Workshop
DESCRIPTION:In January 2020\, the North West Tax Clinic opened its doors for the North West community as a pilot project. The project is a collaboration between Lancaster University\, University of Central Lancashire and national charity\, TaxAid. The model for the clinic draws on student volunteers\, tax practitioners and TaxAid to provide low-income individuals with accurate\, professional tax advice. The clinic provides a platform for student experiential learning and the students undertake training to become TaxAid volunteers. They are the first line of support for the Clinic and answer the helpline\, hold appointments with clients\, identify their tax issues\, and research and draft tax advice. \nFollowing the pilot\, this workshop\, supported by the TRN\, will aim to share some initial learning on the challenges and benefits to introducing a clinical tax education element to Law\, Finance\, or Accounting students. During the workshop\, we will aim to: \n\nProvide an insight into student experience by drawing on student survey data and the student volunteers;\nProvide an insight into the supervisor experience and walk delegates through the challenges faced when setting up the North West Tax Clinic. For instance\, marketing and infrastructure;\nGive a tour of the North West Tax Clinic and answer delegate questions relating to setting up a Tax Clinic in their institution.\n\nThe workshop is intended to be a friendly environment to ask questions about Tax Clinics\, as well as to share ideas on clinic models moving forwards.
URL:https://taxresearch.network/event/trn-clinical-tax-education-workshop/
LOCATION:Lancaster University\, Lancaster\, United Kingdom
END:VEVENT
BEGIN:VEVENT
DTSTART;VALUE=DATE:20200629
DTEND;VALUE=DATE:20200702
DTSTAMP:20260423T121123
CREATED:20191210T111550Z
LAST-MODIFIED:20191210T114507Z
UID:1016-1593388800-1593647999@taxresearch.network
SUMMARY:OUCBT Academic Symposium
DESCRIPTION:… save the date\, details not yet available …
URL:https://taxresearch.network/event/oucbt-academic-symposium/
LOCATION:Oxford\, United Kingdom
CATEGORIES:Archived
END:VEVENT
BEGIN:VEVENT
DTSTART;VALUE=DATE:20200423
DTEND;VALUE=DATE:20200425
DTSTAMP:20260423T121123
CREATED:20191210T111920Z
LAST-MODIFIED:20200308T145539Z
UID:1020-1587600000-1587772799@taxresearch.network
SUMMARY:Postponed - TARC Research Conference 2020
DESCRIPTION:As there is still a lot of uncertainty around Coronavirus\, the organisers have regretfully come to the decision to reschedule the Annual TARC Conference for later on in the year. We will update the calendar once we have details of the new date.
URL:https://taxresearch.network/event/tarc-research-conference-2020/
LOCATION:University of Exeter\, Exeter\, United Kingdom
CATEGORIES:Archived
END:VEVENT
END:VCALENDAR