BEGIN:VCALENDAR
VERSION:2.0
PRODID:-//Tax Research Network - ECPv6.15.11//NONSGML v1.0//EN
CALSCALE:GREGORIAN
METHOD:PUBLISH
X-WR-CALNAME:Tax Research Network
X-ORIGINAL-URL:https://taxresearch.network
X-WR-CALDESC:Events for Tax Research Network
REFRESH-INTERVAL;VALUE=DURATION:PT1H
X-Robots-Tag:noindex
X-PUBLISHED-TTL:PT1H
BEGIN:VTIMEZONE
TZID:Europe/London
BEGIN:DAYLIGHT
TZOFFSETFROM:+0000
TZOFFSETTO:+0100
TZNAME:BST
DTSTART:20240331T010000
END:DAYLIGHT
BEGIN:STANDARD
TZOFFSETFROM:+0100
TZOFFSETTO:+0000
TZNAME:GMT
DTSTART:20241027T010000
END:STANDARD
BEGIN:DAYLIGHT
TZOFFSETFROM:+0000
TZOFFSETTO:+0100
TZNAME:BST
DTSTART:20250330T010000
END:DAYLIGHT
BEGIN:STANDARD
TZOFFSETFROM:+0100
TZOFFSETTO:+0000
TZNAME:GMT
DTSTART:20251026T010000
END:STANDARD
BEGIN:DAYLIGHT
TZOFFSETFROM:+0000
TZOFFSETTO:+0100
TZNAME:BST
DTSTART:20260329T010000
END:DAYLIGHT
BEGIN:STANDARD
TZOFFSETFROM:+0100
TZOFFSETTO:+0000
TZNAME:GMT
DTSTART:20261025T010000
END:STANDARD
END:VTIMEZONE
BEGIN:VEVENT
DTSTART;VALUE=DATE:20250205
DTEND;VALUE=DATE:20250207
DTSTAMP:20260423T122951
CREATED:20240807T144422Z
LAST-MODIFIED:20240807T144422Z
UID:2552-1738713600-1738886399@taxresearch.network
SUMMARY:IBFD Doctoral Meeting of Researchers in International Taxation (DocMIT) and Postdoctoral International Tax Forum (PITF)
DESCRIPTION:We are thrilled to announce that the next edition of the Doctoral Meeting of Researchers in International Taxation (DocMIT) & Postdoctoral International Tax Forum (PITF) event will take place on 5 and 6 February 2025 at the IBFD headquarters in Amsterdam. \nThe seminar is intended for young tax scholars and students working on their doctoral theses in international\, European\, or comparative tax law. The selected participants will have an opportunity to discuss their current research projects with leading academics and a select circle of colleagues. They will benefit from tailored coaching provided by our panel of international tax professors\, as well as from feedback provided by peers from around the world. \nThe deadline to apply is 1 October 2024. \nYou can find more information on the event at this link.
URL:https://taxresearch.network/event/ibfd-doctoral-meeting-of-researchers-in-international-taxation-docmit-and-postdoctoral-international-tax-forum-pitf/
LOCATION:IBFD Head Office\, Amsterdam\, Netherlands
END:VEVENT
END:VCALENDAR